BEGIN:VCALENDAR
VERSION:2.0
PRODID:-//Golden Gate MBC Dallas - ECPv6.15.20//NONSGML v1.0//EN
CALSCALE:GREGORIAN
METHOD:PUBLISH
X-WR-CALNAME:Golden Gate MBC Dallas
X-ORIGINAL-URL:https://goldengatembc.org
X-WR-CALDESC:Events for Golden Gate MBC Dallas
REFRESH-INTERVAL;VALUE=DURATION:PT1H
X-Robots-Tag:noindex
X-PUBLISHED-TTL:PT1H
BEGIN:VTIMEZONE
TZID:America/Chicago
BEGIN:DAYLIGHT
TZOFFSETFROM:-0600
TZOFFSETTO:-0500
TZNAME:CDT
DTSTART:20250309T080000
END:DAYLIGHT
BEGIN:STANDARD
TZOFFSETFROM:-0500
TZOFFSETTO:-0600
TZNAME:CST
DTSTART:20251102T070000
END:STANDARD
BEGIN:DAYLIGHT
TZOFFSETFROM:-0600
TZOFFSETTO:-0500
TZNAME:CDT
DTSTART:20260308T080000
END:DAYLIGHT
BEGIN:STANDARD
TZOFFSETFROM:-0500
TZOFFSETTO:-0600
TZNAME:CST
DTSTART:20261101T070000
END:STANDARD
BEGIN:DAYLIGHT
TZOFFSETFROM:-0600
TZOFFSETTO:-0500
TZNAME:CDT
DTSTART:20270314T080000
END:DAYLIGHT
BEGIN:STANDARD
TZOFFSETFROM:-0500
TZOFFSETTO:-0600
TZNAME:CST
DTSTART:20271107T070000
END:STANDARD
END:VTIMEZONE
BEGIN:VEVENT
DTSTART;TZID=America/Chicago:20260417T080000
DTEND;TZID=America/Chicago:20260505T170000
DTSTAMP:20260423T072528
CREATED:20260417T191327Z
LAST-MODIFIED:20260417T191428Z
UID:4621-1776412800-1778000400@goldengatembc.org
SUMMARY:GGMBC Focus Groups
DESCRIPTION:Over the next few weeks\, we will host several focus groups (facilitated conversations\, about 60 to 90 minutes)\, where you will have the opportunity to share your experiences\, what’s working\, and where we can grow as a church. We are inviting all members to sign up and participate because your voice matters and will help shape the future of Golden Gate. \n\n\n\nClick Here to sign up today.
URL:https://goldengatembc.org/event/4621/
CATEGORIES:Event
ATTACH;FMTTYPE=image/png:https://goldengatembc.org/wp-content/uploads/2026/04/GGMBC-Focus-Groups-Video.png
END:VEVENT
END:VCALENDAR